BEGIN:VCALENDAR
VERSION:2.0
PRODID:-//washoecasafoundation.com//NONSGML kigkonsult.se iCalcreator 2.30.
 10//
CALSCALE:GREGORIAN
METHOD:PUBLISH
UID:758e4bbd-9b05-4e16-863e-d0d62700f02e
X-WR-CALDESC:Register today!  \nJanuary 22nd: https://us02web.zoom.us/meeti
 ng/register/QrQNU8RaQLaSv6qWptam_A
X-WR-RELCALID:8343e76ce3b71a17382e904c81ddc55d
X-WR-TIMEZONE:America/Los_Angeles
BEGIN:VTIMEZONE
TZID:America/Los_Angeles
BEGIN:STANDARD
TZNAME:PST
DTSTART:20241103T020000
TZOFFSETFROM:-0700
TZOFFSETTO:-0800
RDATE:20251102T020000
END:STANDARD
BEGIN:DAYLIGHT
TZNAME:PDT
DTSTART:20240310T020000
TZOFFSETFROM:-0800
TZOFFSETTO:-0700
RDATE:20250309T020000
RDATE:20260308T020000
END:DAYLIGHT
END:VTIMEZONE
BEGIN:VEVENT
UID:d81c1e36-cae2-436a-b27b-4dae1cb1c481
DTSTAMP:20260421T170048Z
DESCRIPTION:Register today!  \nJanuary 22nd: https://us02web.zoom.us/meetin
 g/register/QrQNU8RaQLaSv6qWptam_A
DTSTART;TZID=America/Los_Angeles:20250122T180000
DTEND;TZID=America/Los_Angeles:20250122T190000
LOCATION:
SUMMARY:Coffee with CASA 1/22/25
END:VEVENT
END:VCALENDAR
