BEGIN:VCALENDAR
VERSION:2.0
PRODID:-//washoecasafoundation.com//NONSGML kigkonsult.se iCalcreator 2.30.
 10//
CALSCALE:GREGORIAN
METHOD:PUBLISH
UID:b8d318e0-a119-4f28-ad25-c3aa26d0663b
X-WR-CALDESC:
X-WR-RELCALID:b3d39ac5ed0b108b40928ca717167c18
X-WR-TIMEZONE:America/Los_Angeles
BEGIN:VTIMEZONE
TZID:America/Los_Angeles
BEGIN:STANDARD
TZNAME:PST
DTSTART:20241103T020000
TZOFFSETFROM:-0700
TZOFFSETTO:-0800
RDATE:20251102T020000
END:STANDARD
BEGIN:DAYLIGHT
TZNAME:PDT
DTSTART:20240310T020000
TZOFFSETFROM:-0800
TZOFFSETTO:-0700
RDATE:20250309T020000
RDATE:20260308T020000
END:DAYLIGHT
END:VTIMEZONE
BEGIN:VEVENT
UID:8b837b43-2dea-4e58-bcd8-e0fb45a250cf
DTSTAMP:20260421T170642Z
DESCRIPTION:
DTSTART;TZID=America/Los_Angeles:20250116T120000
DTEND;TZID=America/Los_Angeles:20250116T160000
LOCATION:
SUMMARY:Annual Strategic Planning Session
END:VEVENT
END:VCALENDAR
