BEGIN:VCALENDAR
VERSION:2.0
PRODID:-//washoecasafoundation.com//NONSGML kigkonsult.se iCalcreator 2.30.
 10//
CALSCALE:GREGORIAN
METHOD:PUBLISH
UID:90ade62c-cc93-46fa-9c52-01afa2c2d4d1
X-WR-CALDESC:Register today!  \nJanuary 8th: https://us02web.zoom.us/meetin
 g/register/tZYod--srjspEtVt0qyh_yFYz1DF9TTNwmWg \nJanuary 22nd: https://us
 02web.zoom.us/meeting/register/QrQNU8RaQLaSv6qWptam_A
X-WR-RELCALID:44b676aa0b7bb38787ef61cd8d2adce9
X-WR-TIMEZONE:America/Los_Angeles
BEGIN:VTIMEZONE
TZID:America/Los_Angeles
BEGIN:STANDARD
TZNAME:PST
DTSTART:20241103T020000
TZOFFSETFROM:-0700
TZOFFSETTO:-0800
RDATE:20251102T020000
END:STANDARD
BEGIN:DAYLIGHT
TZNAME:PDT
DTSTART:20240310T020000
TZOFFSETFROM:-0800
TZOFFSETTO:-0700
RDATE:20250309T020000
RDATE:20260308T020000
END:DAYLIGHT
END:VTIMEZONE
BEGIN:VEVENT
UID:77f9d811-8b43-4a81-815a-04f6043d7450
DTSTAMP:20260421T170659Z
DESCRIPTION:Register today!  \nJanuary 8th: https://us02web.zoom.us/meeting
 /register/tZYod--srjspEtVt0qyh_yFYz1DF9TTNwmWg \nJanuary 22nd: https://us0
 2web.zoom.us/meeting/register/QrQNU8RaQLaSv6qWptam_A
DTSTART;TZID=America/Los_Angeles:20250108T120000
DTEND;TZID=America/Los_Angeles:20250108T130000
LOCATION:
SUMMARY:Coffee with CASA 1/8/25
END:VEVENT
END:VCALENDAR
