BEGIN:VCALENDAR
VERSION:2.0
PRODID:-//washoecasafoundation.com//NONSGML kigkonsult.se iCalcreator 2.30.
 10//
CALSCALE:GREGORIAN
METHOD:PUBLISH
UID:64c72097-0e0e-4622-a0cb-b75f3f6317e1
X-WR-CALDESC:
X-WR-RELCALID:0abf10eb22555452450505237c02591d
X-WR-TIMEZONE:America/Los_Angeles
BEGIN:VTIMEZONE
TZID:America/Los_Angeles
BEGIN:STANDARD
TZNAME:PST
DTSTART:20241103T020000
TZOFFSETFROM:-0700
TZOFFSETTO:-0800
RDATE:20251102T020000
END:STANDARD
BEGIN:DAYLIGHT
TZNAME:PDT
DTSTART:20240310T020000
TZOFFSETFROM:-0800
TZOFFSETTO:-0700
RDATE:20250309T020000
RDATE:20260308T020000
END:DAYLIGHT
END:VTIMEZONE
BEGIN:VEVENT
UID:81295bb1-bdc4-41c0-9236-fab340f96c70
DTSTAMP:20260421T181003Z
DESCRIPTION:
DTSTART;TZID=America/Los_Angeles:20241208T130000
DTEND;TZID=America/Los_Angeles:20241208T170000
LOCATION:9190 S. Virginia Street \, Reno\, NV 89511 US
SUMMARY:Audi Reno Tahoe Holiday Fundraiser
END:VEVENT
END:VCALENDAR
