BEGIN:VCALENDAR
VERSION:2.0
PRODID:-//washoecasafoundation.com//NONSGML kigkonsult.se iCalcreator 2.30.
 10//
CALSCALE:GREGORIAN
METHOD:PUBLISH
UID:c4bee6b6-5d14-4ebc-9e34-81f69b4921d2
X-WR-CALDESC:For children who have experienced neglect or abuse\, having a 
 caring CASA volunteer to\nadvocate for them can make a life-changing diffe
 rence. Your gift can make this possible!
X-WR-RELCALID:6c232346cdccda56318ed5a61c954720
X-WR-TIMEZONE:America/Los_Angeles
BEGIN:VTIMEZONE
TZID:America/Los_Angeles
BEGIN:STANDARD
TZNAME:PST
DTSTART:20241103T020000
TZOFFSETFROM:-0700
TZOFFSETTO:-0800
RDATE:20251102T020000
END:STANDARD
BEGIN:DAYLIGHT
TZNAME:PDT
DTSTART:20240310T020000
TZOFFSETFROM:-0800
TZOFFSETTO:-0700
RDATE:20250309T020000
RDATE:20260308T020000
END:DAYLIGHT
END:VTIMEZONE
BEGIN:VEVENT
UID:f32d1a31-3d61-4d86-bbf4-191cbde73437
DTSTAMP:20260421T180256Z
DESCRIPTION:For children who have experienced neglect or abuse\, having a c
 aring CASA volunteer to\nadvocate for them can make a life-changing differ
 ence. Your gift can make this possible!
DTSTART;TZID=America/Los_Angeles:20241203T030000
DTEND;TZID=America/Los_Angeles:20241203T030001
LOCATION:https://washoecasafoundation.com/give/donate.html
SUMMARY:Giving Tuesday
END:VEVENT
END:VCALENDAR
