BEGIN:VCALENDAR
VERSION:2.0
PRODID:-//washoecasafoundation.com//NONSGML kigkonsult.se iCalcreator 2.30.
 10//
CALSCALE:GREGORIAN
METHOD:PUBLISH
UID:e8cef7a7-9bd2-494e-9158-c9a79c998101
X-WR-CALDESC:
X-WR-RELCALID:aeb85012fc3d0f6247d5b43eb6ddb7a1
X-WR-TIMEZONE:America/Los_Angeles
BEGIN:VTIMEZONE
TZID:America/Los_Angeles
BEGIN:STANDARD
TZNAME:PST
DTSTART:20231105T020000
TZOFFSETFROM:-0700
TZOFFSETTO:-0800
RDATE:20241103T020000
RDATE:20251102T020000
END:STANDARD
BEGIN:DAYLIGHT
TZNAME:PDT
DTSTART:20240310T020000
TZOFFSETFROM:-0800
TZOFFSETTO:-0700
RDATE:20250309T020000
RDATE:20260308T020000
END:DAYLIGHT
END:VTIMEZONE
BEGIN:VEVENT
UID:e31366a5-fbcf-4769-89eb-ac13fe1a60c2
DTSTAMP:20260421T211751Z
DESCRIPTION:
DTSTART;TZID=America/Los_Angeles:20241009T160000
DTEND;TZID=America/Los_Angeles:20241009T200000
LOCATION:
SUMMARY:October CASA Training Dates
END:VEVENT
END:VCALENDAR
