BEGIN:VCALENDAR
VERSION:2.0
PRODID:-//washoecasafoundation.com//NONSGML kigkonsult.se iCalcreator 2.30.
 10//
CALSCALE:GREGORIAN
METHOD:PUBLISH
UID:a75d1584-47e9-44dc-992c-3ede4554464e
X-WR-CALDESC:
X-WR-RELCALID:7b27103e2068aebf8f5e0defbd15bb63
X-WR-TIMEZONE:America/Los_Angeles
BEGIN:VTIMEZONE
TZID:America/Los_Angeles
BEGIN:STANDARD
TZNAME:PST
DTSTART:20231105T020000
TZOFFSETFROM:-0700
TZOFFSETTO:-0800
RDATE:20241103T020000
RDATE:20251102T020000
END:STANDARD
BEGIN:DAYLIGHT
TZNAME:PDT
DTSTART:20240310T020000
TZOFFSETFROM:-0800
TZOFFSETTO:-0700
RDATE:20250309T020000
RDATE:20260308T020000
END:DAYLIGHT
END:VTIMEZONE
BEGIN:VEVENT
UID:0813717a-dc0e-4e69-946c-8c31da3c450e
DTSTAMP:20260421T211302Z
DESCRIPTION:
DTSTART;TZID=America/Los_Angeles:20241007T160000
DTEND;TZID=America/Los_Angeles:20241007T200000
LOCATION:
SUMMARY:October CASA Training Dates
END:VEVENT
END:VCALENDAR
