BEGIN:VCALENDAR
VERSION:2.0
PRODID:-//washoecasafoundation.com//NONSGML kigkonsult.se iCalcreator 2.30.
 10//
CALSCALE:GREGORIAN
METHOD:PUBLISH
UID:0bc8a1e1-4069-4d17-b542-d18d571a7f1a
X-WR-CALDESC:
X-WR-RELCALID:045753726a55813871bf9713b09b4eeb
X-WR-TIMEZONE:America/Los_Angeles
BEGIN:VTIMEZONE
TZID:America/Los_Angeles
BEGIN:STANDARD
TZNAME:PST
DTSTART:20231105T020000
TZOFFSETFROM:-0700
TZOFFSETTO:-0800
RDATE:20241103T020000
RDATE:20251102T020000
END:STANDARD
BEGIN:DAYLIGHT
TZNAME:PDT
DTSTART:20240310T020000
TZOFFSETFROM:-0800
TZOFFSETTO:-0700
RDATE:20250309T020000
RDATE:20260308T020000
END:DAYLIGHT
END:VTIMEZONE
BEGIN:VEVENT
UID:c470051e-51f0-4eef-9826-7f71bacf6e3d
DTSTAMP:20260421T224816Z
DESCRIPTION:
DTSTART;TZID=America/Los_Angeles:20240930T160000
DTEND;TZID=America/Los_Angeles:20240930T200000
LOCATION:
SUMMARY:October CASA Training Dates
END:VEVENT
END:VCALENDAR
