BEGIN:VCALENDAR
VERSION:2.0
PRODID:-//washoecasafoundation.com//NONSGML kigkonsult.se iCalcreator 2.30.
 10//
CALSCALE:GREGORIAN
METHOD:PUBLISH
UID:00b1a8c6-e1f8-42d7-834f-7182dcaad4f7
X-WR-CALDESC:CASA Board of Trustees Meeting\nEvery Third Tuesday of the Mon
 th\n5:30-6:45pm\n\n
X-WR-RELCALID:5b0fd282d6a7c0f339c9d8c3b09aed67
X-WR-TIMEZONE:America/Los_Angeles
BEGIN:VTIMEZONE
TZID:America/Los_Angeles
BEGIN:STANDARD
TZNAME:PST
DTSTART:20231105T020000
TZOFFSETFROM:-0700
TZOFFSETTO:-0800
RDATE:20241103T020000
RDATE:20251102T020000
END:STANDARD
BEGIN:DAYLIGHT
TZNAME:PDT
DTSTART:20240310T020000
TZOFFSETFROM:-0800
TZOFFSETTO:-0700
RDATE:20250309T020000
RDATE:20260308T020000
END:DAYLIGHT
END:VTIMEZONE
BEGIN:VEVENT
UID:e6067480-92fd-4b7d-878a-69cd43238a33
DTSTAMP:20260421T224753Z
DESCRIPTION:CASA Board of Trustees Meeting\nEvery Third Tuesday of the Mont
 h\n5:30-6:45pm\n\n
DTSTART;TZID=America/Los_Angeles:20240917T173000
DTEND;TZID=America/Los_Angeles:20240917T194500
LOCATION:
SUMMARY:Board of Trustees Meeting
END:VEVENT
END:VCALENDAR
