BEGIN:VCALENDAR
VERSION:2.0
PRODID:-//washoecasafoundation.com//NONSGML kigkonsult.se iCalcreator 2.30.
 10//
CALSCALE:GREGORIAN
METHOD:PUBLISH
UID:9a8ecb6d-be11-4b4b-8d22-0a0393fe0b8e
X-WR-CALDESC:Volunteer to be a Court Appointed Special Advocate\n  \nWe NEE
 D you…  VOLUNTEER to be a \nCourt Appointed Special Advocate (CASA) \n \nP
 lease join us at an IN-PERSON Coffee with CASA \n \nWe will host you with 
 your favorite beverage at the Coffee Bar in Reno.   \nLearn about CASA and
  what a volunteer commitment is all about. \n\nRegister here and look for 
 our table when you arrive.  \nWe look forward to meeting you. \n\nThe Coff
 ee Bar\n9620 S McCarran Blvd\, Reno\, NV 89523
X-WR-RELCALID:b6643c06ca81251bdfdc84020d519d31
X-WR-TIMEZONE:America/Los_Angeles
BEGIN:VTIMEZONE
TZID:America/Los_Angeles
BEGIN:STANDARD
TZNAME:PST
DTSTART:20231105T020000
TZOFFSETFROM:-0700
TZOFFSETTO:-0800
RDATE:20241103T020000
RDATE:20251102T020000
END:STANDARD
BEGIN:DAYLIGHT
TZNAME:PDT
DTSTART:20240310T020000
TZOFFSETFROM:-0800
TZOFFSETTO:-0700
RDATE:20250309T020000
END:DAYLIGHT
END:VTIMEZONE
BEGIN:VEVENT
UID:57071416-8e4a-42e0-a21c-659275e7d8d6
DTSTAMP:20260422T032209Z
DESCRIPTION:Volunteer to be a Court Appointed Special Advocate\n  \nWe NEED
  you…  VOLUNTEER to be a \nCourt Appointed Special Advocate (CASA) \n \nPl
 ease join us at an IN-PERSON Coffee with CASA \n \nWe will host you with y
 our favorite beverage at the Coffee Bar in Reno.   \nLearn about CASA and 
 what a volunteer commitment is all about. \n\nRegister here and look for o
 ur table when you arrive.  \nWe look forward to meeting you. \n\nThe Coffe
 e Bar\n9620 S McCarran Blvd\, Reno\, NV 89523
DTSTART;TZID=America/Los_Angeles:20240619T170000
DTEND;TZID=America/Los_Angeles:20240619T180000
LOCATION:https://docs.google.com/forms/d/e/1FAIpQLSeLplGvbv49-33VEnwG0COt8V
 I9UD7jnVJ9wXaBSfKY9D813w/viewform?usp=sf_link
SUMMARY:Coffee with CASA IN-PERSON
END:VEVENT
END:VCALENDAR
