BEGIN:VCALENDAR
VERSION:2.0
PRODID:-//washoecasafoundation.com//NONSGML kigkonsult.se iCalcreator 2.30.
 10//
CALSCALE:GREGORIAN
METHOD:PUBLISH
UID:ac00a056-e106-4846-baf5-5fc7ff3770f4
X-WR-CALDESC:
X-WR-RELCALID:f0b980832996bb006b151ae8bba7e1a7
X-WR-TIMEZONE:America/Los_Angeles
BEGIN:VTIMEZONE
TZID:America/Los_Angeles
BEGIN:STANDARD
TZNAME:PST
DTSTART:20231105T020000
TZOFFSETFROM:-0700
TZOFFSETTO:-0800
RDATE:20241103T020000
END:STANDARD
BEGIN:DAYLIGHT
TZNAME:PDT
DTSTART:20240310T020000
TZOFFSETFROM:-0800
TZOFFSETTO:-0700
RDATE:20250309T020000
END:DAYLIGHT
END:VTIMEZONE
BEGIN:VEVENT
UID:0a03e47a-e7f8-49c4-9a78-81fedf9b8592
DTSTAMP:20260422T044132Z
DESCRIPTION:
DTSTART;TZID=America/Los_Angeles:20240501T120000
DTEND;TZID=America/Los_Angeles:20240501T130000
LOCATION:https://washoecasafoundation.com/get-involved/coffee-with-casa.htm
 l
SUMMARY:Coffee with CASA
END:VEVENT
END:VCALENDAR
