BEGIN:VCALENDAR
VERSION:2.0
PRODID:-//washoecasafoundation.com//NONSGML kigkonsult.se iCalcreator 2.30.
 10//
CALSCALE:GREGORIAN
METHOD:PUBLISH
UID:e911e626-32ec-4b19-b0fe-ce77964bc758
X-WR-CALDESC:
X-WR-RELCALID:2fe1264817aaa4f74d9bbea9b81a6f4c
X-WR-TIMEZONE:America/Los_Angeles
BEGIN:VTIMEZONE
TZID:America/Los_Angeles
BEGIN:STANDARD
TZNAME:PST
DTSTART:20231105T020000
TZOFFSETFROM:-0700
TZOFFSETTO:-0800
RDATE:20241103T020000
END:STANDARD
BEGIN:DAYLIGHT
TZNAME:PDT
DTSTART:20240310T020000
TZOFFSETFROM:-0800
TZOFFSETTO:-0700
RDATE:20250309T020000
END:DAYLIGHT
END:VTIMEZONE
BEGIN:VEVENT
UID:765b78e0-24c2-400f-bca9-fa413cf5cd74
DTSTAMP:20260422T080510Z
DESCRIPTION:
DTSTART;TZID=America/Los_Angeles:20240328T160000
DTEND;TZID=America/Los_Angeles:20240328T200000
LOCATION:
SUMMARY:Spring CASA Training Class
END:VEVENT
END:VCALENDAR
