BEGIN:VCALENDAR
VERSION:2.0
PRODID:-//washoecasafoundation.com//NONSGML kigkonsult.se iCalcreator 2.30.
 10//
CALSCALE:GREGORIAN
METHOD:PUBLISH
UID:3d87571e-4039-469c-8459-5c0f2e6c2096
X-WR-CALDESC:
X-WR-RELCALID:b5852ffcc4533045652fa2d83bd7ca55
X-WR-TIMEZONE:America/Los_Angeles
BEGIN:VTIMEZONE
TZID:America/Los_Angeles
BEGIN:STANDARD
TZNAME:PST
DTSTART:20231105T020000
TZOFFSETFROM:-0700
TZOFFSETTO:-0800
RDATE:20241103T020000
END:STANDARD
BEGIN:DAYLIGHT
TZNAME:PDT
DTSTART:20240310T020000
TZOFFSETFROM:-0800
TZOFFSETTO:-0700
RDATE:20250309T020000
END:DAYLIGHT
END:VTIMEZONE
BEGIN:VEVENT
UID:f81af14b-da88-4c62-a5d8-88b2b7ba6b56
DTSTAMP:20260422T080511Z
DESCRIPTION:
DTSTART;TZID=America/Los_Angeles:20240326T160000
DTEND;TZID=America/Los_Angeles:20240326T200000
LOCATION:
SUMMARY:Spring CASA Training Class
END:VEVENT
END:VCALENDAR
