BEGIN:VCALENDAR
VERSION:2.0
PRODID:-//washoecasafoundation.com//NONSGML kigkonsult.se iCalcreator 2.30.
 10//
CALSCALE:GREGORIAN
METHOD:PUBLISH
UID:b53587bb-7c5b-4a49-8807-fb41da6a07fe
X-WR-CALDESC:
X-WR-RELCALID:2e1e329bb693b0af2f12807e74507c2d
X-WR-TIMEZONE:America/Los_Angeles
BEGIN:VTIMEZONE
TZID:America/Los_Angeles
BEGIN:STANDARD
TZNAME:PST
DTSTART:20231105T020000
TZOFFSETFROM:-0700
TZOFFSETTO:-0800
RDATE:20241103T020000
END:STANDARD
BEGIN:DAYLIGHT
TZNAME:PDT
DTSTART:20240310T020000
TZOFFSETFROM:-0800
TZOFFSETTO:-0700
RDATE:20250309T020000
END:DAYLIGHT
END:VTIMEZONE
BEGIN:VEVENT
UID:acda295a-387e-4ac7-8e24-8c5d0cc52bac
DTSTAMP:20260422T080317Z
DESCRIPTION:
DTSTART;TZID=America/Los_Angeles:20240321T160000
DTEND;TZID=America/Los_Angeles:20240321T200000
LOCATION:
SUMMARY:Spring CASA Training Class
END:VEVENT
END:VCALENDAR
