BEGIN:VCALENDAR
VERSION:2.0
PRODID:-//washoecasafoundation.com//NONSGML kigkonsult.se iCalcreator 2.30.
 10//
CALSCALE:GREGORIAN
METHOD:PUBLISH
UID:34b4c6ef-2c8c-45a7-b29a-323fa2c974f1
X-WR-CALDESC:
X-WR-RELCALID:61ade7ac548b3548b596de7951121c97
X-WR-TIMEZONE:America/Los_Angeles
BEGIN:VTIMEZONE
TZID:America/Los_Angeles
BEGIN:STANDARD
TZNAME:PST
DTSTART:20231105T020000
TZOFFSETFROM:-0700
TZOFFSETTO:-0800
RDATE:20241103T020000
END:STANDARD
BEGIN:DAYLIGHT
TZNAME:PDT
DTSTART:20240310T020000
TZOFFSETFROM:-0800
TZOFFSETTO:-0700
RDATE:20250309T020000
END:DAYLIGHT
END:VTIMEZONE
BEGIN:VEVENT
UID:9f8583d6-26ba-4a98-9f5f-5009831270f7
DTSTAMP:20260422T080025Z
DESCRIPTION:
DTSTART;TZID=America/Los_Angeles:20240320T180000
DTEND;TZID=America/Los_Angeles:20240320T190000
LOCATION:https://washoecasafoundation.com/get-involved/coffee-with-casa.htm
 l
SUMMARY:Coffee with CASA
END:VEVENT
END:VCALENDAR
