BEGIN:VCALENDAR
VERSION:2.0
PRODID:-//washoecasafoundation.com//NONSGML kigkonsult.se iCalcreator 2.30.
 10//
CALSCALE:GREGORIAN
METHOD:PUBLISH
UID:17ba7efb-1ee7-48ad-aeee-b7fd0e12fbbb
X-WR-CALDESC:
X-WR-RELCALID:3d9da7ea948ac103f7bba3f84add66f1
X-WR-TIMEZONE:America/Los_Angeles
BEGIN:VTIMEZONE
TZID:America/Los_Angeles
BEGIN:STANDARD
TZNAME:PST
DTSTART:20231105T020000
TZOFFSETFROM:-0700
TZOFFSETTO:-0800
RDATE:20241103T020000
END:STANDARD
BEGIN:DAYLIGHT
TZNAME:PDT
DTSTART:20240310T020000
TZOFFSETFROM:-0800
TZOFFSETTO:-0700
RDATE:20250309T020000
END:DAYLIGHT
END:VTIMEZONE
BEGIN:VEVENT
UID:d1128fc1-26f1-4db4-8360-a06f0175948a
DTSTAMP:20260422T080026Z
DESCRIPTION:
DTSTART;TZID=America/Los_Angeles:20240312T160000
DTEND;TZID=America/Los_Angeles:20240312T200000
LOCATION:
SUMMARY:Spring CASA Training Class
END:VEVENT
END:VCALENDAR
