BEGIN:VCALENDAR
VERSION:2.0
PRODID:-//washoecasafoundation.com//NONSGML kigkonsult.se iCalcreator 2.30.
 10//
CALSCALE:GREGORIAN
METHOD:PUBLISH
UID:414b0984-ff6b-4ce1-962c-0725f2ba38c4
X-WR-CALDESC:Volunteer to be a Court Appointed Special Advocate\n  \nWe NEE
 D you…  VOLUNTEER to be a \nCourt Appointed Special Advocate (CASA) \n \nP
 lease join us at an IN-PERSON Coffee with CASA \n \nWe will host you with 
 your favorite beverage at the Coffee Bar in Reno.   \nLearn about CASA and
  what a volunteer commitment is all about. \n\nRegister here and look for 
 our table when you arrive.  \nWe look forward to meeting you. \n\nThe Coff
 ee Bar\n9620 S McCarran Blvd\, Reno\, NV 89523\n
X-WR-RELCALID:1f0899a882d1a8cfa6c7a835f27a4326
X-WR-TIMEZONE:America/Los_Angeles
BEGIN:VTIMEZONE
TZID:America/Los_Angeles
BEGIN:STANDARD
TZNAME:PST
DTSTART:20231105T020000
TZOFFSETFROM:-0700
TZOFFSETTO:-0800
RDATE:20241103T020000
END:STANDARD
BEGIN:DAYLIGHT
TZNAME:PDT
DTSTART:20230312T020000
TZOFFSETFROM:-0800
TZOFFSETTO:-0700
RDATE:20240310T020000
RDATE:20250309T020000
END:DAYLIGHT
END:VTIMEZONE
BEGIN:VEVENT
UID:d26efd46-87ef-4e04-8cb3-c2ff26114eac
DTSTAMP:20260422T093253Z
DESCRIPTION:Volunteer to be a Court Appointed Special Advocate\n  \nWe NEED
  you…  VOLUNTEER to be a \nCourt Appointed Special Advocate (CASA) \n \nPl
 ease join us at an IN-PERSON Coffee with CASA \n \nWe will host you with y
 our favorite beverage at the Coffee Bar in Reno.   \nLearn about CASA and 
 what a volunteer commitment is all about. \n\nRegister here and look for o
 ur table when you arrive.  \nWe look forward to meeting you. \n\nThe Coffe
 e Bar\n9620 S McCarran Blvd\, Reno\, NV 89523\n
DTSTART;TZID=America/Los_Angeles:20240228T170000
DTEND;TZID=America/Los_Angeles:20240228T180000
LOCATION:https://docs.google.com/forms/d/e/1FAIpQLSdJM9yfMhF9RFIruiICmc0bik
 X4AFkDs07FdwqfuMUDUfO0Mg/viewform?usp=sf_link
SUMMARY:Coffee with CASA IN-PERSON
END:VEVENT
END:VCALENDAR
