BEGIN:VCALENDAR
VERSION:2.0
PRODID:-//washoecasafoundation.com//NONSGML kigkonsult.se iCalcreator 2.30.
 10//
CALSCALE:GREGORIAN
METHOD:PUBLISH
UID:cd1c02d7-e947-4678-a12b-0e2e04702130
X-WR-CALDESC:Details to be announced!  Check back!
X-WR-RELCALID:812bd857633ea5de2730654a3146b08d
X-WR-TIMEZONE:America/Los_Angeles
BEGIN:VTIMEZONE
TZID:America/Los_Angeles
BEGIN:STANDARD
TZNAME:PST
DTSTART:20231105T020000
TZOFFSETFROM:-0700
TZOFFSETTO:-0800
RDATE:20241103T020000
END:STANDARD
BEGIN:DAYLIGHT
TZNAME:PDT
DTSTART:20230312T020000
TZOFFSETFROM:-0800
TZOFFSETTO:-0700
RDATE:20240310T020000
RDATE:20250309T020000
END:DAYLIGHT
END:VTIMEZONE
BEGIN:VEVENT
UID:bdc090bd-33d0-44aa-ba2c-c780ae383ed8
DTSTAMP:20260422T110817Z
DESCRIPTION:Details to be announced!  Check back!
DTSTART;TZID=America/Los_Angeles:20240118T160000
DTEND;TZID=America/Los_Angeles:20240118T180000
LOCATION:
SUMMARY:Potential Recruit Social
END:VEVENT
END:VCALENDAR
