BEGIN:VCALENDAR
VERSION:2.0
PRODID:-//washoecasafoundation.com//NONSGML kigkonsult.se iCalcreator 2.30.
 10//
CALSCALE:GREGORIAN
METHOD:PUBLISH
UID:3ee777ae-ab34-4c80-a6b6-d8247533bfbc
X-WR-CALDESC:
X-WR-RELCALID:94cbf092a7c803294e45f1b949a21639
X-WR-TIMEZONE:America/Los_Angeles
BEGIN:VTIMEZONE
TZID:America/Los_Angeles
BEGIN:STANDARD
TZNAME:PST
DTSTART:20221106T020000
TZOFFSETFROM:-0700
TZOFFSETTO:-0800
RDATE:20231105T020000
RDATE:20241103T020000
END:STANDARD
BEGIN:DAYLIGHT
TZNAME:PDT
DTSTART:20230312T020000
TZOFFSETFROM:-0800
TZOFFSETTO:-0700
RDATE:20240310T020000
RDATE:20250309T020000
END:DAYLIGHT
END:VTIMEZONE
BEGIN:VEVENT
UID:a60545c2-f1ed-43d3-a124-6728e0a28279
DTSTAMP:20260422T155927Z
DESCRIPTION:
DTSTART;TZID=America/Los_Angeles:20231024T150000
DTEND;TZID=America/Los_Angeles:20231024T200000
LOCATION:
SUMMARY:Fall CASA Training Class
END:VEVENT
END:VCALENDAR
