BEGIN:VCALENDAR
VERSION:2.0
PRODID:-//washoecasafoundation.com//NONSGML kigkonsult.se iCalcreator 2.30.
 10//
CALSCALE:GREGORIAN
METHOD:PUBLISH
UID:9ec144f6-799a-40a8-bb1b-baaf5244b7c3
X-WR-CALDESC:
X-WR-RELCALID:ccc30659e8a373d1f7b5999b0a1f642c
X-WR-TIMEZONE:America/Los_Angeles
BEGIN:VTIMEZONE
TZID:America/Los_Angeles
BEGIN:STANDARD
TZNAME:PST
DTSTART:20221106T020000
TZOFFSETFROM:-0700
TZOFFSETTO:-0800
RDATE:20231105T020000
RDATE:20241103T020000
END:STANDARD
BEGIN:DAYLIGHT
TZNAME:PDT
DTSTART:20230312T020000
TZOFFSETFROM:-0800
TZOFFSETTO:-0700
RDATE:20240310T020000
RDATE:20250309T020000
END:DAYLIGHT
END:VTIMEZONE
BEGIN:VEVENT
UID:2687af9a-bb21-4e59-b239-40aa2fb96176
DTSTAMP:20260422T155303Z
DESCRIPTION:
DTSTART;TZID=America/Los_Angeles:20231017T150000
DTEND;TZID=America/Los_Angeles:20231017T200000
LOCATION:
SUMMARY:Fall CASA Training Class
END:VEVENT
END:VCALENDAR
