BEGIN:VCALENDAR
VERSION:2.0
PRODID:-//washoecasafoundation.com//NONSGML kigkonsult.se iCalcreator 2.30.
 10//
CALSCALE:GREGORIAN
METHOD:PUBLISH
UID:4a23dd12-4702-4dfd-8116-0bac37926f25
X-WR-CALDESC:
X-WR-RELCALID:c14826f8f846eafd486b411e28a1dab7
X-WR-TIMEZONE:America/Los_Angeles
BEGIN:VTIMEZONE
TZID:America/Los_Angeles
BEGIN:STANDARD
TZNAME:PST
DTSTART:20221106T020000
TZOFFSETFROM:-0700
TZOFFSETTO:-0800
RDATE:20231105T020000
RDATE:20241103T020000
END:STANDARD
BEGIN:DAYLIGHT
TZNAME:PDT
DTSTART:20230312T020000
TZOFFSETFROM:-0800
TZOFFSETTO:-0700
RDATE:20240310T020000
END:DAYLIGHT
END:VTIMEZONE
BEGIN:VEVENT
UID:12568d25-6143-44b1-a033-cfc0134d79e8
DTSTAMP:20260424T081518Z
DESCRIPTION:
DTSTART;TZID=America/Los_Angeles:20230715T090000
DTEND;TZID=America/Los_Angeles:20230715T140000
LOCATION:
SUMMARY:Summer CASA Training Class
END:VEVENT
END:VCALENDAR
