BEGIN:VCALENDAR
VERSION:2.0
PRODID:-//washoecasafoundation.com//NONSGML kigkonsult.se iCalcreator 2.30.
 10//
CALSCALE:GREGORIAN
METHOD:PUBLISH
UID:bda4ab8a-2dd5-4184-8d50-e33f5710fd5b
X-WR-CALDESC:
X-WR-RELCALID:f343956f136181da735d8fd918471043
X-WR-TIMEZONE:America/Los_Angeles
BEGIN:VTIMEZONE
TZID:America/Los_Angeles
BEGIN:STANDARD
TZNAME:PST
DTSTART:20221106T020000
TZOFFSETFROM:-0700
TZOFFSETTO:-0800
RDATE:20231105T020000
RDATE:20241103T020000
END:STANDARD
BEGIN:DAYLIGHT
TZNAME:PDT
DTSTART:20230312T020000
TZOFFSETFROM:-0800
TZOFFSETTO:-0700
RDATE:20240310T020000
END:DAYLIGHT
END:VTIMEZONE
BEGIN:VEVENT
UID:bfd481dc-f317-452a-8836-e4ef6511c0e4
DTSTAMP:20260422T201354Z
DESCRIPTION:
DTSTART;TZID=America/Los_Angeles:20230706T150000
DTEND;TZID=America/Los_Angeles:20230706T200000
LOCATION:
SUMMARY:Summer CASA Training Class
END:VEVENT
END:VCALENDAR
