BEGIN:VCALENDAR
VERSION:2.0
PRODID:-//washoecasafoundation.com//NONSGML kigkonsult.se iCalcreator 2.30.
 10//
CALSCALE:GREGORIAN
METHOD:PUBLISH
UID:36ef8c68-2471-4224-ac8e-1f8adc68bdf9
X-WR-CALDESC:
X-WR-RELCALID:dc17a1972c664f9b8784164126848fed
X-WR-TIMEZONE:America/Los_Angeles
BEGIN:VTIMEZONE
TZID:America/Los_Angeles
BEGIN:STANDARD
TZNAME:PST
DTSTART:20221106T020000
TZOFFSETFROM:-0700
TZOFFSETTO:-0800
RDATE:20231105T020000
RDATE:20241103T020000
END:STANDARD
BEGIN:DAYLIGHT
TZNAME:PDT
DTSTART:20230312T020000
TZOFFSETFROM:-0800
TZOFFSETTO:-0700
RDATE:20240310T020000
END:DAYLIGHT
END:VTIMEZONE
BEGIN:VEVENT
UID:a10f4536-65f0-4ed7-bf0e-885b5c4ffcb6
DTSTAMP:20260422T213501Z
DESCRIPTION:
DTSTART;TZID=America/Los_Angeles:20230627T150000
DTEND;TZID=America/Los_Angeles:20230627T200000
LOCATION:
SUMMARY:Summer CASA Training Class
END:VEVENT
END:VCALENDAR
