BEGIN:VCALENDAR
VERSION:2.0
PRODID:-//washoecasafoundation.com//NONSGML kigkonsult.se iCalcreator 2.30.
 10//
CALSCALE:GREGORIAN
METHOD:PUBLISH
UID:a1dd5b4c-de1e-4253-bae9-48eb40c36cb2
X-WR-CALDESC:
X-WR-RELCALID:32b2bc6388dd6428686755f8cf9edccb
X-WR-TIMEZONE:America/Los_Angeles
BEGIN:VTIMEZONE
TZID:America/Los_Angeles
BEGIN:STANDARD
TZNAME:PST
DTSTART:20221106T020000
TZOFFSETFROM:-0700
TZOFFSETTO:-0800
RDATE:20231105T020000
RDATE:20241103T020000
END:STANDARD
BEGIN:DAYLIGHT
TZNAME:PDT
DTSTART:20230312T020000
TZOFFSETFROM:-0800
TZOFFSETTO:-0700
RDATE:20240310T020000
END:DAYLIGHT
END:VTIMEZONE
BEGIN:VEVENT
UID:538cc961-8fba-4e33-a1b1-8607d6f7fd65
DTSTAMP:20260422T213402Z
DESCRIPTION:
DTSTART;TZID=America/Los_Angeles:20230624T090000
DTEND;TZID=America/Los_Angeles:20230624T140000
LOCATION:
SUMMARY:Summer CASA Training Class
END:VEVENT
END:VCALENDAR
