BEGIN:VCALENDAR
VERSION:2.0
PRODID:-//washoecasafoundation.com//NONSGML kigkonsult.se iCalcreator 2.30.
 10//
CALSCALE:GREGORIAN
METHOD:PUBLISH
UID:10e02194-f147-42aa-b4af-8b1edacc8e51
X-WR-CALDESC:
X-WR-RELCALID:c8c1542a09820a373cd1d8e2a0bb23be
X-WR-TIMEZONE:America/Los_Angeles
BEGIN:VTIMEZONE
TZID:America/Los_Angeles
BEGIN:STANDARD
TZNAME:PST
DTSTART:20221106T020000
TZOFFSETFROM:-0700
TZOFFSETTO:-0800
RDATE:20231105T020000
RDATE:20241103T020000
END:STANDARD
BEGIN:DAYLIGHT
TZNAME:PDT
DTSTART:20230312T020000
TZOFFSETFROM:-0800
TZOFFSETTO:-0700
RDATE:20240310T020000
END:DAYLIGHT
END:VTIMEZONE
BEGIN:VEVENT
UID:741b9192-5c3a-43f2-b904-f28e5b82319a
DTSTAMP:20260424T092421Z
DESCRIPTION:
DTSTART;TZID=America/Los_Angeles:20230622T150000
DTEND;TZID=America/Los_Angeles:20230622T200000
LOCATION:
SUMMARY:Summer CASA Training Class
END:VEVENT
END:VCALENDAR
