BEGIN:VCALENDAR
VERSION:2.0
PRODID:-//washoecasafoundation.com//NONSGML kigkonsult.se iCalcreator 2.30.
 10//
CALSCALE:GREGORIAN
METHOD:PUBLISH
UID:27e49803-ecfb-4b55-b7a5-e52d32dab42e
X-WR-CALDESC:
X-WR-RELCALID:a68f3ac4d93d09c468fb9abf839620c9
X-WR-TIMEZONE:America/Los_Angeles
BEGIN:VTIMEZONE
TZID:America/Los_Angeles
BEGIN:STANDARD
TZNAME:PST
DTSTART:20221106T020000
TZOFFSETFROM:-0700
TZOFFSETTO:-0800
RDATE:20231105T020000
RDATE:20241103T020000
END:STANDARD
BEGIN:DAYLIGHT
TZNAME:PDT
DTSTART:20230312T020000
TZOFFSETFROM:-0800
TZOFFSETTO:-0700
RDATE:20240310T020000
END:DAYLIGHT
END:VTIMEZONE
BEGIN:VEVENT
UID:f55c48cc-ebe8-42df-bb40-9f969ab294be
DTSTAMP:20260422T213737Z
DESCRIPTION:
DTSTART;TZID=America/Los_Angeles:20230610T080000
DTEND;TZID=America/Los_Angeles:20230613T180000
LOCATION:
SUMMARY:National CASA/GAL Association Annual Conference
END:VEVENT
END:VCALENDAR
