BEGIN:VCALENDAR
VERSION:2.0
PRODID:-//washoecasafoundation.com//NONSGML kigkonsult.se iCalcreator 2.30.
 10//
CALSCALE:GREGORIAN
METHOD:PUBLISH
UID:e59efaf1-d81d-4a25-b484-9941bc823108
X-WR-CALDESC:CASA Board of Trustees Meeting\nEvery Third Tuesday of the Mon
 th\n5:30-6:45pm\n\n
X-WR-RELCALID:7c4ad04f05e39f2f0a586cbdc62b5f05
X-WR-TIMEZONE:America/Los_Angeles
BEGIN:VTIMEZONE
TZID:America/Los_Angeles
BEGIN:STANDARD
TZNAME:PST
DTSTART:20221106T020000
TZOFFSETFROM:-0700
TZOFFSETTO:-0800
RDATE:20231105T020000
END:STANDARD
BEGIN:DAYLIGHT
TZNAME:PDT
DTSTART:20230312T020000
TZOFFSETFROM:-0800
TZOFFSETTO:-0700
RDATE:20240310T020000
END:DAYLIGHT
END:VTIMEZONE
BEGIN:VEVENT
UID:636a8bec-3db7-4b09-b1e9-b91bb6cfc42f
DTSTAMP:20260423T081613Z
DESCRIPTION:CASA Board of Trustees Meeting\nEvery Third Tuesday of the Mont
 h\n5:30-6:45pm\n\n
DTSTART;TZID=America/Los_Angeles:20230418T173000
DTEND;TZID=America/Los_Angeles:20230418T194500
LOCATION:
SUMMARY:Board of Trustees Meeting
END:VEVENT
END:VCALENDAR
