BEGIN:VCALENDAR
VERSION:2.0
PRODID:-//washoecasafoundation.com//NONSGML kigkonsult.se iCalcreator 2.30.
 10//
CALSCALE:GREGORIAN
METHOD:PUBLISH
UID:dc094ea4-e1dc-49c2-b2e7-ddd3e375143e
X-WR-CALDESC:
X-WR-RELCALID:c62f054229cdfd56dcf3d90a282aed7e
X-WR-TIMEZONE:America/Los_Angeles
BEGIN:VTIMEZONE
TZID:America/Los_Angeles
BEGIN:STANDARD
TZNAME:PST
DTSTART:20221106T020000
TZOFFSETFROM:-0700
TZOFFSETTO:-0800
RDATE:20231105T020000
END:STANDARD
BEGIN:DAYLIGHT
TZNAME:PDT
DTSTART:20230312T020000
TZOFFSETFROM:-0800
TZOFFSETTO:-0700
RDATE:20240310T020000
END:DAYLIGHT
END:VTIMEZONE
BEGIN:VEVENT
UID:7950a538-aad8-4253-8dd0-40138714fa52
DTSTAMP:20260423T081828Z
DESCRIPTION:
DTSTART;TZID=America/Los_Angeles:20230401T090000
DTEND;TZID=America/Los_Angeles:20230401T130000
LOCATION:2680 East Ninth Street \, Reno\, NV 89512 US
SUMMARY:Biggest Little Easter Egg Hunt
END:VEVENT
END:VCALENDAR
