BEGIN:VCALENDAR
VERSION:2.0
PRODID:-//washoecasafoundation.com//NONSGML kigkonsult.se iCalcreator 2.30.
 10//
CALSCALE:GREGORIAN
METHOD:PUBLISH
UID:f70cbca2-5861-41d4-b135-f21e8c701aee
X-WR-CALDESC:
X-WR-RELCALID:e441ea66332a156f350ae64927765ec3
X-WR-TIMEZONE:America/Los_Angeles
BEGIN:VTIMEZONE
TZID:America/Los_Angeles
BEGIN:STANDARD
TZNAME:PST
DTSTART:20221106T020000
TZOFFSETFROM:-0700
TZOFFSETTO:-0800
RDATE:20231105T020000
END:STANDARD
BEGIN:DAYLIGHT
TZNAME:PDT
DTSTART:20230312T020000
TZOFFSETFROM:-0800
TZOFFSETTO:-0700
RDATE:20240310T020000
END:DAYLIGHT
END:VTIMEZONE
BEGIN:VEVENT
UID:85a19b9e-ccb9-4231-a9e8-3be1232a9c08
DTSTAMP:20260423T063819Z
DESCRIPTION:
DTSTART;TZID=America/Los_Angeles:20230323T150000
DTEND;TZID=America/Los_Angeles:20230323T200000
LOCATION:
SUMMARY:Spring CASA Training Class
END:VEVENT
END:VCALENDAR
