BEGIN:VCALENDAR
VERSION:2.0
PRODID:-//washoecasafoundation.com//NONSGML kigkonsult.se iCalcreator 2.30.
 10//
CALSCALE:GREGORIAN
METHOD:PUBLISH
UID:4ce41c21-77b6-471f-a752-ce4ef05a8c0c
X-WR-CALDESC:
X-WR-RELCALID:2f13b423e4bff88566070354ec95df7c
X-WR-TIMEZONE:America/Los_Angeles
BEGIN:VTIMEZONE
TZID:America/Los_Angeles
BEGIN:STANDARD
TZNAME:PST
DTSTART:20221106T020000
TZOFFSETFROM:-0700
TZOFFSETTO:-0800
RDATE:20231105T020000
END:STANDARD
BEGIN:DAYLIGHT
TZNAME:PDT
DTSTART:20230312T020000
TZOFFSETFROM:-0800
TZOFFSETTO:-0700
RDATE:20240310T020000
END:DAYLIGHT
END:VTIMEZONE
BEGIN:VEVENT
UID:135b2ec7-47d2-4ce4-a169-ccf0f78a2bef
DTSTAMP:20260423T064101Z
DESCRIPTION:
DTSTART;TZID=America/Los_Angeles:20230314T150000
DTEND;TZID=America/Los_Angeles:20230314T200000
LOCATION:
SUMMARY:Spring CASA Training Class
END:VEVENT
END:VCALENDAR
