BEGIN:VCALENDAR
VERSION:2.0
PRODID:-//washoecasafoundation.com//NONSGML kigkonsult.se iCalcreator 2.30.
 10//
CALSCALE:GREGORIAN
METHOD:PUBLISH
UID:015bcf05-4aca-4865-9512-12f98e3eb5a0
X-WR-CALDESC:
X-WR-RELCALID:75370fac074b27f5b182afdccf706c64
X-WR-TIMEZONE:America/Los_Angeles
BEGIN:VTIMEZONE
TZID:America/Los_Angeles
BEGIN:STANDARD
TZNAME:PST
DTSTART:20221106T020000
TZOFFSETFROM:-0700
TZOFFSETTO:-0800
RDATE:20231105T020000
END:STANDARD
BEGIN:DAYLIGHT
TZNAME:PDT
DTSTART:20220313T020000
TZOFFSETFROM:-0800
TZOFFSETTO:-0700
RDATE:20230312T020000
RDATE:20240310T020000
END:DAYLIGHT
END:VTIMEZONE
BEGIN:VEVENT
UID:1924caf9-155a-41aa-9691-54daf48cdd53
DTSTAMP:20260423T064154Z
DESCRIPTION:
DTSTART;TZID=America/Los_Angeles:20230311T100000
DTEND;TZID=America/Los_Angeles:20230311T150000
LOCATION:
SUMMARY:Spring CASA Training Class
END:VEVENT
END:VCALENDAR
