BEGIN:VCALENDAR
VERSION:2.0
PRODID:-//washoecasafoundation.com//NONSGML kigkonsult.se iCalcreator 2.30.
 10//
CALSCALE:GREGORIAN
METHOD:PUBLISH
UID:b762849f-b80b-4b87-997b-ba273626d447
X-WR-CALDESC:Please contact the Washoe County CASA Program to become a CASA
  Volunteer.  We need you!
X-WR-RELCALID:e592b7b8391357122010ee90715cb3c6
X-WR-TIMEZONE:America/Los_Angeles
BEGIN:VTIMEZONE
TZID:America/Los_Angeles
BEGIN:STANDARD
TZNAME:PST
DTSTART:20211107T020000
TZOFFSETFROM:-0700
TZOFFSETTO:-0800
RDATE:20221106T020000
RDATE:20231105T020000
END:STANDARD
BEGIN:DAYLIGHT
TZNAME:PDT
DTSTART:20220313T020000
TZOFFSETFROM:-0800
TZOFFSETTO:-0700
RDATE:20230312T020000
RDATE:20240310T020000
END:DAYLIGHT
END:VTIMEZONE
BEGIN:VEVENT
UID:2d1b1c80-511a-4bf9-99b1-1e69ee6fdaf1
DTSTAMP:20260422T231432Z
DESCRIPTION:Please contact the Washoe County CASA Program to become a CASA 
 Volunteer.  We need you!
DTSTART;TZID=America/Los_Angeles:20221006T150000
DTEND;TZID=America/Los_Angeles:20221006T190000
LOCATION:
SUMMARY:Volunteer Training Fall Session
END:VEVENT
END:VCALENDAR
