BEGIN:VCALENDAR
VERSION:2.0
PRODID:-//washoecasafoundation.com//NONSGML kigkonsult.se iCalcreator 2.30.
 10//
CALSCALE:GREGORIAN
METHOD:PUBLISH
UID:1b43f586-a4e9-45ce-9c48-9035ca239530
X-WR-CALDESC:Please contact the Washoe County CASA Program to become a CASA
  Volunteer.  We need you!
X-WR-RELCALID:b62b1196514a632537ab82ed08a82f92
X-WR-TIMEZONE:America/Los_Angeles
BEGIN:VTIMEZONE
TZID:America/Los_Angeles
BEGIN:STANDARD
TZNAME:PST
DTSTART:20211107T020000
TZOFFSETFROM:-0700
TZOFFSETTO:-0800
RDATE:20221106T020000
RDATE:20231105T020000
END:STANDARD
BEGIN:DAYLIGHT
TZNAME:PDT
DTSTART:20220313T020000
TZOFFSETFROM:-0800
TZOFFSETTO:-0700
RDATE:20230312T020000
RDATE:20240310T020000
END:DAYLIGHT
END:VTIMEZONE
BEGIN:VEVENT
UID:1fe690a8-f424-418e-8538-c291687084e3
DTSTAMP:20260424T092255Z
DESCRIPTION:Please contact the Washoe County CASA Program to become a CASA 
 Volunteer.  We need you!
DTSTART;TZID=America/Los_Angeles:20220922T150000
DTEND;TZID=America/Los_Angeles:20220922T190000
LOCATION:
SUMMARY:Volunteer Training Fall Session
END:VEVENT
END:VCALENDAR
