BEGIN:VCALENDAR
VERSION:2.0
PRODID:-//washoecasafoundation.com//NONSGML kigkonsult.se iCalcreator 2.30.
 10//
CALSCALE:GREGORIAN
METHOD:PUBLISH
UID:ffecc889-e3a2-46b9-8a38-93d5557a408d
X-WR-CALDESC:Walk along with the Washoe CASA Foundation!!\n\nDate: Saturday
 \, July 23rd\, 2022\nTime: 10:00 am\nLocation: Fifth and Virginia St to Is
 land Drive\nRoute Length: 1.0 miles\n\nCost: Free to watch!
X-WR-RELCALID:42d574e658622d2655655f565ad85b86
X-WR-TIMEZONE:America/Los_Angeles
BEGIN:VTIMEZONE
TZID:America/Los_Angeles
BEGIN:STANDARD
TZNAME:PST
DTSTART:20211107T020000
TZOFFSETFROM:-0700
TZOFFSETTO:-0800
RDATE:20221106T020000
RDATE:20231105T020000
END:STANDARD
BEGIN:DAYLIGHT
TZNAME:PDT
DTSTART:20220313T020000
TZOFFSETFROM:-0800
TZOFFSETTO:-0700
RDATE:20230312T020000
END:DAYLIGHT
END:VTIMEZONE
BEGIN:VEVENT
UID:e28339eb-c6bc-45c2-9817-ed07c5fd7517
DTSTAMP:20260422T184901Z
DESCRIPTION:Walk along with the Washoe CASA Foundation!!\n\nDate: Saturday\
 , July 23rd\, 2022\nTime: 10:00 am\nLocation: Fifth and Virginia St to Isl
 and Drive\nRoute Length: 1.0 miles\n\nCost: Free to watch!
DTSTART;TZID=America/Los_Angeles:20220723T100000
DTEND;TZID=America/Los_Angeles:20220723T110000
LOCATION:Fifth and Virginia St to Island Drive\, Reno\, NV 89501 US
SUMMARY:Northern Nevada Pride Parade
END:VEVENT
END:VCALENDAR
