BEGIN:VCALENDAR
VERSION:2.0
PRODID:-//washoecasafoundation.com//NONSGML kigkonsult.se iCalcreator 2.30.
 10//
CALSCALE:GREGORIAN
METHOD:PUBLISH
UID:69d2bb26-2fae-4dbc-b959-c018f44622d9
X-WR-CALDESC:Following the CommUNITY Pride Parade is the Pride Festival. Th
 e Washoe CASA Foundation will host a booth at the festival in Wingfield Pa
 rk.  Stop by and see us!! \n\nDetails\nDate: Saturday\, July 23rd\, 2022\n
 Time: 11:00am - 6:00pm\nLocation: Wingfield Park\n\n
X-WR-RELCALID:2b043ebd56e3d610c0e361d91c140c01
X-WR-TIMEZONE:America/Los_Angeles
BEGIN:VTIMEZONE
TZID:America/Los_Angeles
BEGIN:STANDARD
TZNAME:PST
DTSTART:20211107T020000
TZOFFSETFROM:-0700
TZOFFSETTO:-0800
RDATE:20221106T020000
RDATE:20231105T020000
END:STANDARD
BEGIN:DAYLIGHT
TZNAME:PDT
DTSTART:20220313T020000
TZOFFSETFROM:-0800
TZOFFSETTO:-0700
RDATE:20230312T020000
END:DAYLIGHT
END:VTIMEZONE
BEGIN:VEVENT
UID:14dc291a-ba0e-4f31-b92a-02c0aaa9cfb8
DTSTAMP:20260422T185107Z
DESCRIPTION:Following the CommUNITY Pride Parade is the Pride Festival. The
  Washoe CASA Foundation will host a booth at the festival in Wingfield Par
 k.  Stop by and see us!! \n\nDetails\nDate: Saturday\, July 23rd\, 2022\nT
 ime: 11:00am - 6:00pm\nLocation: Wingfield Park\n\n
DTSTART;TZID=America/Los_Angeles:20220723T110000
DTEND;TZID=America/Los_Angeles:20220723T180000
LOCATION:2 S Arlington Ave\, Reno\, NV 89501 US
SUMMARY:Northern Nevada Pride Festival
END:VEVENT
END:VCALENDAR
