BEGIN:VCALENDAR
VERSION:2.0
PRODID:-//washoecasafoundation.com//NONSGML kigkonsult.se iCalcreator 2.30.
 10//
CALSCALE:GREGORIAN
METHOD:PUBLISH
UID:4d18b3f7-9d8b-45e9-b8fe-fe4af9990528
X-WR-CALDESC:\nHello CASA Volunteers - The Washoe CASA Foundation is sponso
 ring a Volunteer 'Mix and Mingle' picnic. We hope you can join us!\n\nThe 
 Washoe CASA Foundation will host a Mix and Mingle picnic and hope you can 
 join us!  We will provide sandwiches and salads from Yosh's\, as well as b
 everages\, including beer and wine.  \n\nDate and Time:  Thursday\, July 1
 4th from 4:30 - 7:30 pm\nPlace:  Bartley Ranch Regional Park Pavilion \n\n
 Click here (or copy and paste) for Google RSVP form:  https://forms.gle/7r
 9RkF1CsyxUDdx8A
X-WR-RELCALID:2687b00efd58dfad46a409f298590a22
X-WR-TIMEZONE:America/Los_Angeles
BEGIN:VTIMEZONE
TZID:America/Los_Angeles
BEGIN:STANDARD
TZNAME:PST
DTSTART:20211107T020000
TZOFFSETFROM:-0700
TZOFFSETTO:-0800
RDATE:20221106T020000
RDATE:20231105T020000
END:STANDARD
BEGIN:DAYLIGHT
TZNAME:PDT
DTSTART:20220313T020000
TZOFFSETFROM:-0800
TZOFFSETTO:-0700
RDATE:20230312T020000
END:DAYLIGHT
END:VTIMEZONE
BEGIN:VEVENT
UID:feb2b65b-8cc4-4fc9-a9df-b577892679d7
DTSTAMP:20260422T185133Z
DESCRIPTION:\nHello CASA Volunteers - The Washoe CASA Foundation is sponsor
 ing a Volunteer 'Mix and Mingle' picnic. We hope you can join us!\n\nThe W
 ashoe CASA Foundation will host a Mix and Mingle picnic and hope you can j
 oin us!  We will provide sandwiches and salads from Yosh's\, as well as be
 verages\, including beer and wine.  \n\nDate and Time:  Thursday\, July 14
 th from 4:30 - 7:30 pm\nPlace:  Bartley Ranch Regional Park Pavilion \n\nC
 lick here (or copy and paste) for Google RSVP form:  https://forms.gle/7r9
 RkF1CsyxUDdx8A
DTSTART;TZID=America/Los_Angeles:20220714T163000
DTEND;TZID=America/Los_Angeles:20220714T193000
LOCATION:Bartley Ranch Regional Park Pavilion \, 6000 Bartley Ranch Rd\,\, 
 Reno \, NV 89511 US
SUMMARY:Washoe CASA Volunteer Mix and Mingle Picnic
END:VEVENT
END:VCALENDAR
