BEGIN:VCALENDAR
VERSION:2.0
PRODID:-//washoecasafoundation.com//NONSGML kigkonsult.se iCalcreator 2.30.
 10//
CALSCALE:GREGORIAN
METHOD:PUBLISH
UID:bb842647-7aea-431c-aa84-ca15d05c28e1
X-WR-CALDESC:Please contact the Washoe County CASA Program to become a CASA
  Volunteer.  We need you!
X-WR-RELCALID:1f44e1f587e757569d5f6198bee39e92
X-WR-TIMEZONE:America/Los_Angeles
BEGIN:VTIMEZONE
TZID:America/Los_Angeles
BEGIN:STANDARD
TZNAME:PST
DTSTART:20211107T020000
TZOFFSETFROM:-0700
TZOFFSETTO:-0800
RDATE:20221106T020000
RDATE:20231105T020000
END:STANDARD
BEGIN:DAYLIGHT
TZNAME:PDT
DTSTART:20220313T020000
TZOFFSETFROM:-0800
TZOFFSETTO:-0700
RDATE:20230312T020000
END:DAYLIGHT
END:VTIMEZONE
BEGIN:VEVENT
UID:e703b326-fc70-42fb-8024-3bdc5117976e
DTSTAMP:20260422T171557Z
DESCRIPTION:Please contact the Washoe County CASA Program to become a CASA 
 Volunteer.  We need you!
DTSTART;TZID=America/Los_Angeles:20220616T150000
DTEND;TZID=America/Los_Angeles:20220616T200000
LOCATION:
SUMMARY:Volunteer Training Summer Session
END:VEVENT
END:VCALENDAR
