BEGIN:VCALENDAR
VERSION:2.0
PRODID:-//washoecasafoundation.com//NONSGML kigkonsult.se iCalcreator 2.30.
 10//
CALSCALE:GREGORIAN
METHOD:PUBLISH
UID:7dfb324e-8476-4fa8-817f-088dca201f76
X-WR-CALDESC:Please contact the Washoe County CASA Program to become a CASA
  Volunteer.  We need you!
X-WR-RELCALID:f89cbe8227460bf140a00cc8b3c405e6
X-WR-TIMEZONE:America/Los_Angeles
BEGIN:VTIMEZONE
TZID:America/Los_Angeles
BEGIN:STANDARD
TZNAME:PST
DTSTART:20211107T020000
TZOFFSETFROM:-0700
TZOFFSETTO:-0800
RDATE:20221106T020000
RDATE:20231105T020000
END:STANDARD
BEGIN:DAYLIGHT
TZNAME:PDT
DTSTART:20220313T020000
TZOFFSETFROM:-0800
TZOFFSETTO:-0700
RDATE:20230312T020000
END:DAYLIGHT
END:VTIMEZONE
BEGIN:VEVENT
UID:2fa7d5f9-c06a-4d9b-8450-56645455ee49
DTSTAMP:20260422T171246Z
DESCRIPTION:Please contact the Washoe County CASA Program to become a CASA 
 Volunteer.  We need you!
DTSTART;TZID=America/Los_Angeles:20220613T150000
DTEND;TZID=America/Los_Angeles:20220613T200000
LOCATION:
SUMMARY:Volunteer Training Summer Session
END:VEVENT
END:VCALENDAR
