BEGIN:VCALENDAR
VERSION:2.0
PRODID:-//washoecasafoundation.com//NONSGML kigkonsult.se iCalcreator 2.30.
 10//
CALSCALE:GREGORIAN
METHOD:PUBLISH
UID:419b9fdc-e16f-4ad9-a33e-ee8a808a117b
X-WR-CALDESC:Please contact the Washoe County CASA Program to become a CASA
  Volunteer.  We need you!
X-WR-RELCALID:aad77966c51b5040023e75c8b93b1c3b
X-WR-TIMEZONE:America/Los_Angeles
BEGIN:VTIMEZONE
TZID:America/Los_Angeles
BEGIN:STANDARD
TZNAME:PST
DTSTART:20211107T020000
TZOFFSETFROM:-0700
TZOFFSETTO:-0800
RDATE:20221106T020000
RDATE:20231105T020000
END:STANDARD
BEGIN:DAYLIGHT
TZNAME:PDT
DTSTART:20220313T020000
TZOFFSETFROM:-0800
TZOFFSETTO:-0700
RDATE:20230312T020000
END:DAYLIGHT
END:VTIMEZONE
BEGIN:VEVENT
UID:75bff491-5d67-48cf-8b7c-491d664eefe9
DTSTAMP:20260422T171306Z
DESCRIPTION:Please contact the Washoe County CASA Program to become a CASA 
 Volunteer.  We need you!
DTSTART;TZID=America/Los_Angeles:20220609T150000
DTEND;TZID=America/Los_Angeles:20220609T200000
LOCATION:
SUMMARY:Volunteer Training Summer Session
END:VEVENT
END:VCALENDAR
