BEGIN:VCALENDAR
VERSION:2.0
PRODID:-//washoecasafoundation.com//NONSGML kigkonsult.se iCalcreator 2.30.
 10//
CALSCALE:GREGORIAN
METHOD:PUBLISH
UID:3cc036ea-76f5-4f7f-9ccc-bb2420673580
X-WR-CALDESC:
X-WR-RELCALID:bc5f6707a3e8ce28ca113963653130a6
X-WR-TIMEZONE:America/Los_Angeles
BEGIN:VTIMEZONE
TZID:America/Los_Angeles
BEGIN:STANDARD
TZNAME:PST
DTSTART:20211107T020000
TZOFFSETFROM:-0700
TZOFFSETTO:-0800
RDATE:20221106T020000
RDATE:20231105T020000
END:STANDARD
BEGIN:DAYLIGHT
TZNAME:PDT
DTSTART:20220313T020000
TZOFFSETFROM:-0800
TZOFFSETTO:-0700
RDATE:20230312T020000
END:DAYLIGHT
END:VTIMEZONE
BEGIN:VEVENT
UID:499ec5e3-513c-441a-b6ac-9524e534aa81
DTSTAMP:20260422T171025Z
DESCRIPTION:
DTSTART;TZID=America/Los_Angeles:20220608T120000
DTEND;TZID=America/Los_Angeles:20220608T130000
LOCATION:https://washoecasafoundation.com/get-involved/coffee-with-casa.htm
 l
SUMMARY:Coffee with CASA
END:VEVENT
END:VCALENDAR
