BEGIN:VCALENDAR
VERSION:2.0
PRODID:-//washoecasafoundation.com//NONSGML kigkonsult.se iCalcreator 2.30.
 10//
CALSCALE:GREGORIAN
METHOD:PUBLISH
UID:a0735d9a-3eeb-4fde-93b8-11468b398458
X-WR-CALDESC:
X-WR-RELCALID:d1c1005bddce6dc4285a49b1da8feb21
X-WR-TIMEZONE:America/Los_Angeles
BEGIN:VTIMEZONE
TZID:America/Los_Angeles
BEGIN:STANDARD
TZNAME:PST
DTSTART:20211107T020000
TZOFFSETFROM:-0700
TZOFFSETTO:-0800
RDATE:20221106T020000
END:STANDARD
BEGIN:DAYLIGHT
TZNAME:PDT
DTSTART:20220313T020000
TZOFFSETFROM:-0800
TZOFFSETTO:-0700
RDATE:20230312T020000
END:DAYLIGHT
END:VTIMEZONE
BEGIN:VEVENT
UID:da69f3d9-6b12-45d5-ae24-3a4d6fe3b602
DTSTAMP:20260422T201231Z
DESCRIPTION:
DTSTART;TZID=America/Los_Angeles:20220413T180000
DTEND;TZID=America/Los_Angeles:20220413T210000
LOCATION:Upon acceptance of your application\, you will receive information
  about your training class.
SUMMARY:Volunteer Training Spring Session
END:VEVENT
END:VCALENDAR
