BEGIN:VCALENDAR
VERSION:2.0
PRODID:-//washoecasafoundation.com//NONSGML kigkonsult.se iCalcreator 2.30.
 10//
CALSCALE:GREGORIAN
METHOD:PUBLISH
UID:98a52a55-853c-4262-acdf-cf09b6022e84
X-WR-CALDESC:
X-WR-RELCALID:9b0a6824b1f3cecaaf177787ec143420
X-WR-TIMEZONE:America/Los_Angeles
BEGIN:VTIMEZONE
TZID:America/Los_Angeles
BEGIN:STANDARD
TZNAME:PST
DTSTART:20211107T020000
TZOFFSETFROM:-0700
TZOFFSETTO:-0800
RDATE:20221106T020000
END:STANDARD
BEGIN:DAYLIGHT
TZNAME:PDT
DTSTART:20220313T020000
TZOFFSETFROM:-0800
TZOFFSETTO:-0700
RDATE:20230312T020000
END:DAYLIGHT
END:VTIMEZONE
BEGIN:VEVENT
UID:83f1cf1d-8e52-436f-ac28-7714d54305cf
DTSTAMP:20260422T201057Z
DESCRIPTION:
DTSTART;TZID=America/Los_Angeles:20220409T100000
DTEND;TZID=America/Los_Angeles:20220409T120000
LOCATION:Rancho San Rafael Park: Farm and Families Area
SUMMARY:Biggest Little Easter Egg Hunt
END:VEVENT
END:VCALENDAR
