BEGIN:VCALENDAR
VERSION:2.0
PRODID:-//washoecasafoundation.com//NONSGML kigkonsult.se iCalcreator 2.30.
 10//
CALSCALE:GREGORIAN
METHOD:PUBLISH
UID:b601e70f-c438-4c55-9132-5a6b6e2060fd
X-WR-CALDESC:
X-WR-RELCALID:e27bf5841807473d418cb8f3f254841d
X-WR-TIMEZONE:America/Los_Angeles
BEGIN:VTIMEZONE
TZID:America/Los_Angeles
BEGIN:STANDARD
TZNAME:PST
DTSTART:20211107T020000
TZOFFSETFROM:-0700
TZOFFSETTO:-0800
RDATE:20221106T020000
END:STANDARD
BEGIN:DAYLIGHT
TZNAME:PDT
DTSTART:20220313T020000
TZOFFSETFROM:-0800
TZOFFSETTO:-0700
RDATE:20230312T020000
END:DAYLIGHT
END:VTIMEZONE
BEGIN:VEVENT
UID:d8e4be6f-ff9b-4c5b-b3ff-3644d5c1cd70
DTSTAMP:20260422T202801Z
DESCRIPTION:
DTSTART;TZID=America/Los_Angeles:20220406T180000
DTEND;TZID=America/Los_Angeles:20220406T210000
LOCATION:Upon acceptance of your application\, you will receive information
  about your training class.
SUMMARY:Volunteer Training Spring Session
END:VEVENT
END:VCALENDAR
