BEGIN:VCALENDAR
VERSION:2.0
PRODID:-//washoecasafoundation.com//NONSGML kigkonsult.se iCalcreator 2.30.
 10//
CALSCALE:GREGORIAN
METHOD:PUBLISH
UID:c8e7de7a-fa3a-4ec0-be6e-3980e1deca90
X-WR-CALDESC:
X-WR-RELCALID:d88ba6e2c2247a459e42a6885c0ae3a5
X-WR-TIMEZONE:America/Los_Angeles
BEGIN:VTIMEZONE
TZID:America/Los_Angeles
BEGIN:STANDARD
TZNAME:PST
DTSTART:20211107T020000
TZOFFSETFROM:-0700
TZOFFSETTO:-0800
RDATE:20221106T020000
END:STANDARD
BEGIN:DAYLIGHT
TZNAME:PDT
DTSTART:20220313T020000
TZOFFSETFROM:-0800
TZOFFSETTO:-0700
RDATE:20230312T020000
END:DAYLIGHT
END:VTIMEZONE
BEGIN:VEVENT
UID:1cc12f9d-73cb-48c3-836c-c811dcfd8645
DTSTAMP:20260422T213859Z
DESCRIPTION:
DTSTART;TZID=America/Los_Angeles:20220330T180000
DTEND;TZID=America/Los_Angeles:20220330T210000
LOCATION:Upon acceptance of your application\, you will receive information
  about your training class.
SUMMARY:Volunteer Training Spring Session
END:VEVENT
END:VCALENDAR
