BEGIN:VCALENDAR
VERSION:2.0
PRODID:-//washoecasafoundation.com//NONSGML kigkonsult.se iCalcreator 2.30.
 10//
CALSCALE:GREGORIAN
METHOD:PUBLISH
UID:35579a0d-5597-41fb-8336-a2b73b421ccb
X-WR-CALDESC:We are raising funds for foster kids. Specifically\, donations
  and ticket revenue will go to CASA\, Court Appointed Special Advocates. T
 hese highly-trained volunteers are linked each to one specific foster chil
 d via Nevada Department of Child and Family Services and the court system.
  These volunteers know these kids and how best to direct money or gift car
 d donations specifically for each kid.\n\nThe fundraiser will be a lot of 
 fun\, by the way-- we have an amazing local band\, The Blevinses! One of t
 he top standup comics on the West Coast\, Dejan Tyler\, is doing a set\, a
 s is Reno headliner Sara Rooker. Our host Jessica is providing food and we
 're serving craft beer and wine for any donation.
X-WR-RELCALID:633638c7abe40cd8130760f764721fca
X-WR-TIMEZONE:America/Los_Angeles
BEGIN:VTIMEZONE
TZID:America/Los_Angeles
BEGIN:STANDARD
TZNAME:PST
DTSTART:20211107T020000
TZOFFSETFROM:-0700
TZOFFSETTO:-0800
RDATE:20221106T020000
END:STANDARD
BEGIN:DAYLIGHT
TZNAME:PDT
DTSTART:20210314T020000
TZOFFSETFROM:-0800
TZOFFSETTO:-0700
RDATE:20220313T020000
RDATE:20230312T020000
END:DAYLIGHT
END:VTIMEZONE
BEGIN:VEVENT
UID:fdad217a-e101-406b-9fef-771bb405c8e2
DTSTAMP:20260423T033838Z
DESCRIPTION:We are raising funds for foster kids. Specifically\, donations 
 and ticket revenue will go to CASA\, Court Appointed Special Advocates. Th
 ese highly-trained volunteers are linked each to one specific foster child
  via Nevada Department of Child and Family Services and the court system. 
 These volunteers know these kids and how best to direct money or gift card
  donations specifically for each kid.\n\nThe fundraiser will be a lot of f
 un\, by the way-- we have an amazing local band\, The Blevinses! One of th
 e top standup comics on the West Coast\, Dejan Tyler\, is doing a set\, as
  is Reno headliner Sara Rooker. Our host Jessica is providing food and we'
 re serving craft beer and wine for any donation.
DTSTART;TZID=America/Los_Angeles:20211112T183000
DTEND;TZID=America/Los_Angeles:20211112T220000
LOCATION:140 Vesta Street\, Reno\, NV 89502 US
SUMMARY:Stand Up & Music Fundraiser Show
END:VEVENT
END:VCALENDAR
