BEGIN:VCALENDAR
VERSION:2.0
PRODID:-//washoecasafoundation.com//NONSGML kigkonsult.se iCalcreator 2.30.
 10//
CALSCALE:GREGORIAN
METHOD:PUBLISH
UID:463e85e2-00c7-4d1e-b983-4aa8632a366b
X-WR-CALDESC:September 21st-October 26th\n6:00pm-9:00pm\nvia Zoom
X-WR-RELCALID:6db9a979b0b02a63b6e1ba57ccf125a6
X-WR-TIMEZONE:America/Los_Angeles
BEGIN:VTIMEZONE
TZID:America/Los_Angeles
BEGIN:STANDARD
TZNAME:PST
DTSTART:20201101T020000
TZOFFSETFROM:-0700
TZOFFSETTO:-0800
RDATE:20211107T020000
RDATE:20221106T020000
END:STANDARD
BEGIN:DAYLIGHT
TZNAME:PDT
DTSTART:20210314T020000
TZOFFSETFROM:-0800
TZOFFSETTO:-0700
RDATE:20220313T020000
RDATE:20230312T020000
END:DAYLIGHT
END:VTIMEZONE
BEGIN:VEVENT
UID:3eb84a95-9863-40a7-8ee6-344409ed9008
DTSTAMP:20260423T050630Z
DESCRIPTION:September 21st-October 26th\n6:00pm-9:00pm\nvia Zoom
DTSTART;TZID=America/Los_Angeles:20211026T180000
DTEND;TZID=America/Los_Angeles:20211026T210000
LOCATION:https://washoecasafoundation.com/get-involved/
SUMMARY:Volunteer Training Fall Session
END:VEVENT
END:VCALENDAR
