BEGIN:VCALENDAR
VERSION:2.0
PRODID:-//washoecasafoundation.com//NONSGML kigkonsult.se iCalcreator 2.30.
 10//
CALSCALE:GREGORIAN
METHOD:PUBLISH
UID:4bc47208-4da9-4e73-835e-083498971ebb
X-WR-CALDESC:September 21st-October 26th\n6:00pm-9:00pm\nvia Zoom
X-WR-RELCALID:0130cea9c99149b408681ec30c2a9316
X-WR-TIMEZONE:America/Los_Angeles
BEGIN:VTIMEZONE
TZID:America/Los_Angeles
BEGIN:STANDARD
TZNAME:PST
DTSTART:20201101T020000
TZOFFSETFROM:-0700
TZOFFSETTO:-0800
RDATE:20211107T020000
RDATE:20221106T020000
END:STANDARD
BEGIN:DAYLIGHT
TZNAME:PDT
DTSTART:20210314T020000
TZOFFSETFROM:-0800
TZOFFSETTO:-0700
RDATE:20220313T020000
RDATE:20230312T020000
END:DAYLIGHT
END:VTIMEZONE
BEGIN:VEVENT
UID:48459a78-4647-48a9-a40d-0b1753ea6273
DTSTAMP:20260423T050341Z
DESCRIPTION:September 21st-October 26th\n6:00pm-9:00pm\nvia Zoom
DTSTART;TZID=America/Los_Angeles:20211012T180000
DTEND;TZID=America/Los_Angeles:20211012T210000
LOCATION:https://washoecasafoundation.com/get-involved/
SUMMARY:Volunteer Training Fall Session
END:VEVENT
END:VCALENDAR
