BEGIN:VCALENDAR
VERSION:2.0
PRODID:-//washoecasafoundation.com//NONSGML kigkonsult.se iCalcreator 2.30.
 10//
CALSCALE:GREGORIAN
METHOD:PUBLISH
UID:47bed405-f1f0-439a-9d2d-747f4f679050
X-WR-CALDESC:September 21st-October 26th\n6:00pm-9:00pm\nvia Zoom
X-WR-RELCALID:02ee1506728d3bb43949d77a77b0f83d
X-WR-TIMEZONE:America/Los_Angeles
BEGIN:VTIMEZONE
TZID:America/Los_Angeles
BEGIN:STANDARD
TZNAME:PST
DTSTART:20201101T020000
TZOFFSETFROM:-0700
TZOFFSETTO:-0800
RDATE:20211107T020000
RDATE:20221106T020000
END:STANDARD
BEGIN:DAYLIGHT
TZNAME:PDT
DTSTART:20210314T020000
TZOFFSETFROM:-0800
TZOFFSETTO:-0700
RDATE:20220313T020000
RDATE:20230312T020000
END:DAYLIGHT
END:VTIMEZONE
BEGIN:VEVENT
UID:9b1ee9aa-1ac0-4f79-997f-456751b0fa88
DTSTAMP:20260423T050619Z
DESCRIPTION:September 21st-October 26th\n6:00pm-9:00pm\nvia Zoom
DTSTART;TZID=America/Los_Angeles:20211005T180000
DTEND;TZID=America/Los_Angeles:20211005T210000
LOCATION:https://washoecasafoundation.com/get-involved/
SUMMARY:Volunteer Training Fall Session
END:VEVENT
END:VCALENDAR
