BEGIN:VCALENDAR
VERSION:2.0
PRODID:-//washoecasafoundation.com//NONSGML kigkonsult.se iCalcreator 2.30.
 10//
CALSCALE:GREGORIAN
METHOD:PUBLISH
UID:6ee4604c-939b-4839-820d-081062e89aa3
X-WR-CALDESC:September 21st-October 26th\n6:00pm-9:00pm\nvia Zoom
X-WR-RELCALID:abdabb7a2c1ca9df57c50bdb2401a597
X-WR-TIMEZONE:America/Los_Angeles
BEGIN:VTIMEZONE
TZID:America/Los_Angeles
BEGIN:STANDARD
TZNAME:PST
DTSTART:20201101T020000
TZOFFSETFROM:-0700
TZOFFSETTO:-0800
RDATE:20211107T020000
RDATE:20221106T020000
END:STANDARD
BEGIN:DAYLIGHT
TZNAME:PDT
DTSTART:20210314T020000
TZOFFSETFROM:-0800
TZOFFSETTO:-0700
RDATE:20220313T020000
RDATE:20230312T020000
END:DAYLIGHT
END:VTIMEZONE
BEGIN:VEVENT
UID:56eeab33-375d-4715-be7c-e67a3f27722e
DTSTAMP:20260423T062851Z
DESCRIPTION:September 21st-October 26th\n6:00pm-9:00pm\nvia Zoom
DTSTART;TZID=America/Los_Angeles:20210928T180000
DTEND;TZID=America/Los_Angeles:20210928T210000
LOCATION:https://washoecasafoundation.com/get-involved/
SUMMARY:Volunteer Training Fall Session
END:VEVENT
END:VCALENDAR
