BEGIN:VCALENDAR
VERSION:2.0
PRODID:-//washoecasafoundation.com//NONSGML kigkonsult.se iCalcreator 2.30.
 10//
CALSCALE:GREGORIAN
METHOD:PUBLISH
UID:f918cfc4-25ff-4d28-ac5d-5ce8fc86ba23
X-WR-CALDESC:September 21st-October 26th\n6:00pm-9:00pm\nvia Zoom
X-WR-RELCALID:a9510918047be7b7084ac40c74e10164
X-WR-TIMEZONE:America/Los_Angeles
BEGIN:VTIMEZONE
TZID:America/Los_Angeles
BEGIN:STANDARD
TZNAME:PST
DTSTART:20201101T020000
TZOFFSETFROM:-0700
TZOFFSETTO:-0800
RDATE:20211107T020000
RDATE:20221106T020000
END:STANDARD
BEGIN:DAYLIGHT
TZNAME:PDT
DTSTART:20210314T020000
TZOFFSETFROM:-0800
TZOFFSETTO:-0700
RDATE:20220313T020000
RDATE:20230312T020000
END:DAYLIGHT
END:VTIMEZONE
BEGIN:VEVENT
UID:22289564-249e-447d-b1fd-0ce407b55fc8
DTSTAMP:20260423T062538Z
DESCRIPTION:September 21st-October 26th\n6:00pm-9:00pm\nvia Zoom
DTSTART;TZID=America/Los_Angeles:20210921T180000
DTEND;TZID=America/Los_Angeles:20210921T210000
LOCATION:https://washoecasafoundation.com/get-involved/
SUMMARY:Volunteer Training Fall Session
END:VEVENT
END:VCALENDAR
